BEGIN:VCALENDAR
CALSCALE:GREGORIAN
VERSION:2.0
PRODID:http://www.kmu-berater.de
BEGIN:VEVENT
UID:4507A662-55A3-4799-0310-552732003405
DTSTAMP:20260421T011356Z
DTSTART;VALUE=DATE:20260924
DTEND;VALUE=DATE:20260925
SUMMARY:KMU-Berater Veranstaltung: Fachberater KMU – Sanierung
DESCRIPTION:24. September 2026 bis 14. November 2026.\n\nDie Präsenztage finden vom 24. bis 26. September, vom 15. bis 17. Oktober  sowie vom 12. bis 14. November 2026 statt.\n\nHier anmelden
URL;VALUE=URI:#fachberater-kmu-sanierung-3
END:VEVENT
END:VCALENDAR

