BEGIN:VCALENDAR
CALSCALE:GREGORIAN
VERSION:2.0
PRODID:http://www.kmu-berater.de
BEGIN:VEVENT
UID:4A59456A-A371-A323-2934-535205800974
DTSTAMP:20260420T235840Z
DTSTART;VALUE=DATE:20261110
DTEND;VALUE=DATE:20261111
SUMMARY:KMU-Berater Veranstaltung: Fachgruppe Finanzierung-Rating
DESCRIPTION:Veranstaltungsort: Online-Sitzung\nVeranstaltungsdauer: 16 - 18 Uhr\nAnmeldung: Bitte wenden Sie sich an den Fachgruppenleiter Herrn Patrick Goris.
URL;VALUE=URI:#fachgruppe-finanzierung-rating-10
END:VEVENT
END:VCALENDAR

