BEGIN:VCALENDAR
CALSCALE:GREGORIAN
VERSION:2.0
PRODID:http://www.kmu-berater.de
BEGIN:VEVENT
UID:48779926-1786-9523-A297-622508592384
DTSTAMP:20260420T235141Z
DTSTART;VALUE=DATE:20261105
DTEND;VALUE=DATE:20261106
SUMMARY:KMU-Berater Veranstaltung: Fachgruppe Unternehmensnachfolge
DESCRIPTION:Veranstaltungsort: Köln\nAnmeldung: Bitte wenden Sie sich an die Fachgruppenleiterin Frau Anna Lisa Selter.
URL;VALUE=URI:#fachgruppe-unternehmensnachfolge-2
END:VEVENT
END:VCALENDAR

