BEGIN:VCALENDAR
CALSCALE:GREGORIAN
VERSION:2.0
PRODID:http://www.kmu-berater.de
BEGIN:VEVENT
UID:A58113A1-3202-A100-1A37-018307361985
DTSTAMP:20260420T085545Z
DTSTART;VALUE=DATE:20260618
DTEND;VALUE=DATE:20260619
SUMMARY:KMU-Berater Veranstaltung: Fachgruppe Unternehmensnachfolge
DESCRIPTION:Veranstaltungsort: Berlin\nAnmeldung: Bitte wenden Sie sich an die Fachgruppenleiterin Frau Anna Lisa Selter.
URL;VALUE=URI:#fachgruppe-unternehmensnachfolge-7
END:VEVENT
END:VCALENDAR

