BEGIN:VCALENDAR
CALSCALE:GREGORIAN
VERSION:2.0
PRODID:http://www.kmu-berater.de
BEGIN:VEVENT
UID:8A7AA982-5112-3391-3170-236504398082
DTSTAMP:20260421T011436Z
DTSTART;VALUE=DATE:20270416
DTEND;VALUE=DATE:20270417
SUMMARY:KMU-Berater Veranstaltung: Fachtagung Tag 2
DESCRIPTION:
URL;VALUE=URI:#herbstfachtagung-2
END:VEVENT
END:VCALENDAR

