BEGIN:VCALENDAR
CALSCALE:GREGORIAN
VERSION:2.0
PRODID:http://www.kmu-berater.de
BEGIN:VEVENT
UID:38712352-3888-A577-1645-78A276779621
DTSTAMP:20260421T011034Z
DTSTART;VALUE=DATE:20270415
DTEND;VALUE=DATE:20270416
SUMMARY:KMU-Berater Veranstaltung: Fachtagung Tag 1
DESCRIPTION:
URL;VALUE=URI:#herbstfachtagung-tag-1
END:VEVENT
END:VCALENDAR

