BEGIN:VCALENDAR
CALSCALE:GREGORIAN
VERSION:2.0
PRODID:http://www.kmu-berater.de
BEGIN:VEVENT
UID:37530937-7603-8543-A859-719469267498
DTSTAMP:20260423T121720Z
DTSTART;VALUE=DATE:20260521
DTEND;VALUE=DATE:20260522
SUMMARY:KMU-Berater Veranstaltung: Regionalgruppe Ost &#8211; Das perfekte Verkaufsgespräch
DESCRIPTION:Wie gelingt ein überzeugendes Verkaufsgespräch? In diesem Treffen der Regionalgruppe Ost dreht sich alles um erfolgreiche Gesprächsführung, überzeugende Argumentation und den gezielten Aufbau von Vertrauen im Kundengespräch.\n\nFreu dich auf praxisnahe Impulse, konkrete Tipps und den Austausch mit Kolleginnen und Kollegen – für mehr Erfolg im Vertrieb und in der Beratung.\n\nVeranstaltungsort: online\nVeranstaltungsdauer: 9-15Uhr\nAnmeldung: Bitte wenden Sie sich an den Regionalgruppenleiter Hans-Ullrich Hinner.\n\nKosten 100€ netto inkl. der Unterlagen
URL;VALUE=URI:#regionalgruppe-ost-4
END:VEVENT
END:VCALENDAR

