BEGIN:VCALENDAR
CALSCALE:GREGORIAN
VERSION:2.0
PRODID:http://www.kmu-berater.de
BEGIN:VEVENT
UID:A3258273-3084-9580-2632-200470173594
DTSTAMP:20260420T235429Z
DTSTART;VALUE=DATE:20260918
DTEND;VALUE=DATE:20260919
SUMMARY:KMU-Berater Veranstaltung: Vorstandssitzung
DESCRIPTION:
URL;VALUE=URI:#vorstandssitzung-8
END:VEVENT
END:VCALENDAR

